BEGIN:VCALENDAR
VERSION:2.0
PRODID:spatie/icalendar-generator
DESCRIPTION:Évènements de L&amp;#039\;Harmonie du Lakeshore / Lakeshore Conce
 rt Band
X-WR-CALDESC:Évènements de L&amp;#039\;Harmonie du Lakeshore / Lakeshore Conc
 ert Band
REFRESH-INTERVAL;VALUE=DURATION:PT1440M
X-PUBLISHED-TTL:PT1440M
BEGIN:VTIMEZONE
TZID:Etc/GMT+0
BEGIN:STANDARD
DTSTART:20250812T193000Z
TZOFFSETFROM:+0000
TZOFFSETTO:+0000
END:STANDARD
END:VTIMEZONE
BEGIN:VTIMEZONE
TZID:UTC
BEGIN:STANDARD
DTSTART:20250727T170314Z
TZOFFSETFROM:+0000
TZOFFSETTO:+0000
END:STANDARD
END:VTIMEZONE
BEGIN:VEVENT
UID:58-47
DTSTAMP:20260423T170314Z
SUMMARY:Gala 2026
LOCATION:Saint Thomas High School 111 Broadview Ave  Pointe-Claire Quebec H
 9R 3Z3
ORGANIZER;CN=cyberroosterwebsites:MAILTO:cyberroosterwebsites@gmail.com
DTSTART;TZID=Etc/GMT+0:20260509T193000
DTEND;TZID=Etc/GMT+0:20260509T203000
X-ALT-DESC;FMTTYPE=TEXT/HTML:Vents &amp;amp\; Merveilles Winds &amp;amp\; Wonders
CATEGORIES:Public,  Publique
URL;VALUE=URI:https://lakeshoreconcertband.ca/evenements/?lang=fr&#038;mc_i
 d=58&#038;vcal=58
METHOD:PUBLISH
END:VEVENT
END:VCALENDAR